BEGIN:VCALENDAR
PRODID:-//PUBBLE//agenda//NL
VERSION:2.0
METHOD:PUBLISH
BEGIN:VEVENT
DTSTART:20240430T101515Z
DTEND:20240430T111515Z
DTSTAMP:20260419T203912Z
UID:dfe32f43-6273-4934-9d56-bb593538ad6f
CREATED:20260419T203912Z
NAME:Repaircafé Bergharen demaasenwaler.nl
X-WR-CALNAME:Repaircafé Bergharen
X-ALT-DESC;FMTTYPE=text/html:<a href='/agenda/2024/5/8/repaircafe-bergharen-51937'>/agenda/2024/5/8/repaircafe-bergharen-51937</a> || <p>BERGHAREN - Woensdag 8 mei is er van 9.30 tot 12.00 uur een repaircafé in De Zandloper.&nbsp;</p><p>Er is deskundigheid op het gebied van kleding, huishoudelijke artikelen, elektrische apparaten en computers.</p>
DESCRIPTION:<a href='/agenda/2024/5/8/repaircafe-bergharen-51937'>/agenda/2024/5/8/repaircafe-bergharen-51937</a> || <p>BERGHAREN - Woensdag 8 mei is er van 9.30 tot 12.00 uur een repaircafé in De Zandloper.&nbsp;</p><p>Er is deskundigheid op het gebied van kleding, huishoudelijke artikelen, elektrische apparaten en computers.</p>
LAST-MODIFIED:20260419T203912Z
LOCATION: De Zandloper | Weem 1 Bergharen
SEQUENCE:0
STATUS:CONFIRMED
SUMMARY:Repaircafé Bergharen
TRANSP:OPAQUE
END:VEVENT
END:VCALENDAR
