BEGIN:VCALENDAR
PRODID:-//PUBBLE//agenda//NL
VERSION:2.0
METHOD:PUBLISH
BEGIN:VEVENT
DTSTART:20240321T082620Z
DTEND:20240321T092620Z
DTSTAMP:20260419T211529Z
UID:7c0208c2-28c5-4ba2-ac58-bb0130aebb51
CREATED:20260419T211529Z
NAME:Vrienden van Bergharen Live demaasenwaler.nl
X-WR-CALNAME:Vrienden van Bergharen Live
X-ALT-DESC;FMTTYPE=text/html:<a href='/agenda/2024/3/30/vrienden-van-bergharen-live-51401'>/agenda/2024/3/30/vrienden-van-bergharen-live-51401</a> || <p>Op (Paas)zaterdag <strong>30 maart&nbsp;</strong>is er voor<strong>&nbsp;</strong>de tweede keer ‘Vrienden van Bergharen Live’, met optredens van Busker, Voeten &amp; Loermans XL, Request, EC was here en Jan Lewiszong.&nbsp;</p><p>Allevier de bands en Jan Lewiszong hebben roots in Bergharen. Op deze avond kunt u luisteren naar muziek van Abba tot Eric Clapton. Van ballads tot rockmuziek. Muziek uit 60 70 80 90 en 00. Vanaf 20.30 uur bent u van harte welkom in de Zandloper in Bergharen. De entree is gratis.</p>
DESCRIPTION:<a href='/agenda/2024/3/30/vrienden-van-bergharen-live-51401'>/agenda/2024/3/30/vrienden-van-bergharen-live-51401</a> || <p>Op (Paas)zaterdag <strong>30 maart&nbsp;</strong>is er voor<strong>&nbsp;</strong>de tweede keer ‘Vrienden van Bergharen Live’, met optredens van Busker, Voeten &amp; Loermans XL, Request, EC was here en Jan Lewiszong.&nbsp;</p><p>Allevier de bands en Jan Lewiszong hebben roots in Bergharen. Op deze avond kunt u luisteren naar muziek van Abba tot Eric Clapton. Van ballads tot rockmuziek. Muziek uit 60 70 80 90 en 00. Vanaf 20.30 uur bent u van harte welkom in de Zandloper in Bergharen. De entree is gratis.</p>
LAST-MODIFIED:20260419T211529Z
LOCATION: De Zandloper | Weem 1 Bergharen
SEQUENCE:0
STATUS:CONFIRMED
SUMMARY:Vrienden van Bergharen Live
TRANSP:OPAQUE
END:VEVENT
END:VCALENDAR
