BEGIN:VCALENDAR
PRODID:-//PUBBLE//agenda//NL
VERSION:2.0
METHOD:PUBLISH
BEGIN:VEVENT
DTSTART:20240213T101358Z
DTEND:20240213T111358Z
DTSTAMP:20260419T153521Z
UID:e1885854-1a93-44b9-8bf5-165a91a67a2f
CREATED:20260419T153521Z
NAME:Concert Vocaal Ensemble Consorte demaasenwaler.nl
X-WR-CALNAME:Concert Vocaal Ensemble Consorte
X-ALT-DESC;FMTTYPE=text/html:<a href='/agenda/2024/2/18/concert-vocaal-ensemble-consorte-50935'>/agenda/2024/2/18/concert-vocaal-ensemble-consorte-50935</a> || <p>BERGHAREN - Vocaal Ensemble Consorte verzorgt op zaterdag 18 februari een herdenkingsconcert in de Protestantse Kerk te Bergharen. Tijdens het concert wordt Consorte zangeres en kunstenares Marieke Overmeer, die eind 2022 overleed, herdacht.&nbsp;</p><p>Het eigenzinnige werk van Marieke inspireerde Consorte tot een programma met als titel ‘ZIJ’. ZIJ is de vrouw, de moeder of de dochter. Het lijden of de troost. Het leven of de dood. Of ZIJ die komt en gaat als de golven van de zee. Het uit dertien zangers bestaande Consorte, begeleid met gamba en orgel, zingt onder leiding van Jelle Hoksbergen delen uit het Stabat Mater van Scarlatti, het Ave Maria van Dubra en werken van Runestad, De Wert, Poulenc, Lang en Tormis.&nbsp;</p><p>Het concert begint om 16.00 uur. De entree bedraagt 15 euro. Gelieve contant te betalen, er is geen pin aanwezig. Vooraf reserveren kan via <a href="mailto:kees_joosse@outlook.com">kees_joosse@outlook.com</a>.</p>
DESCRIPTION:<a href='/agenda/2024/2/18/concert-vocaal-ensemble-consorte-50935'>/agenda/2024/2/18/concert-vocaal-ensemble-consorte-50935</a> || <p>BERGHAREN - Vocaal Ensemble Consorte verzorgt op zaterdag 18 februari een herdenkingsconcert in de Protestantse Kerk te Bergharen. Tijdens het concert wordt Consorte zangeres en kunstenares Marieke Overmeer, die eind 2022 overleed, herdacht.&nbsp;</p><p>Het eigenzinnige werk van Marieke inspireerde Consorte tot een programma met als titel ‘ZIJ’. ZIJ is de vrouw, de moeder of de dochter. Het lijden of de troost. Het leven of de dood. Of ZIJ die komt en gaat als de golven van de zee. Het uit dertien zangers bestaande Consorte, begeleid met gamba en orgel, zingt onder leiding van Jelle Hoksbergen delen uit het Stabat Mater van Scarlatti, het Ave Maria van Dubra en werken van Runestad, De Wert, Poulenc, Lang en Tormis.&nbsp;</p><p>Het concert begint om 16.00 uur. De entree bedraagt 15 euro. Gelieve contant te betalen, er is geen pin aanwezig. Vooraf reserveren kan via <a href="mailto:kees_joosse@outlook.com">kees_joosse@outlook.com</a>.</p>
LAST-MODIFIED:20260419T153521Z
LOCATION: Protestantse kerk | Veldsestraat  12 Bergharen
SEQUENCE:0
STATUS:CONFIRMED
SUMMARY:Concert Vocaal Ensemble Consorte
TRANSP:OPAQUE
END:VEVENT
END:VCALENDAR
