BEGIN:VCALENDAR
PRODID:-//PUBBLE//agenda//NL
VERSION:2.0
METHOD:PUBLISH
BEGIN:VEVENT
DTSTART:20240609T080000Z
DTEND:20240609T090000Z
DTSTAMP:20260423T151030Z
UID:03852c1b-abab-4697-a0d7-de789ed6afaa
CREATED:20260423T151030Z
NAME:Brocante-erffair bij De Knechtenkamer demaasenwaler.nl
X-WR-CALNAME:Brocante-erffair bij De Knechtenkamer
X-ALT-DESC;FMTTYPE=text/html:<a href='/agenda/2024/6/9/brocante-erffair-bij-de-knechtenkamer-50578'>/agenda/2024/6/9/brocante-erffair-bij-de-knechtenkamer-50578</a> || <p>Op zondag 9 juni vindt alweer de 9e editie plaats van deze prachtige fair in landelijke sferen.</p><p>De Brocantefair bij De Knechtenkamer staat bekend als een zeer geliefde fair zowel bij brocanteurs als bezoekers die van heinde en verre naar het Land van Maas en Waal komen. De brocanteurs zijn met zorg geselecteerd, zij toveren hun stands om tot prachtige brocantewinkeltjes gevuld met stoer-Industrieelbrocante, serviesgoed, tuin- en landelijk brocante en meer. De 38 stands staan verspreid over het erf, rond de oude boerderij en in het schaduwrijke weiland. Liefhebbers kunnen hun hart ophalen aan het brede aanbod aan brocante en antiek en genieten van de sfeervolle locatie.</p><p>Natuurlijk ontbreekt de koffie met verse appeltaart niet, &nbsp;geserveerd op het binnen-erf dat omgetoverd is tot een sfeervolle theeschenkerij.</p><p>Iedereen is van harte welkom op zondag 9 juni tussen 10.00 en 16.00 uur.&nbsp;</p><p>B&amp;B De Knechtenkamer, Veldstraat 1, Puiflijk, 06 13890092</p><p>Entree 4 euro.&nbsp;</p><p>let op: er kan niet overal met pin betaald worden.</p><p>Meer informatie, zie <a href="https://www.facebook.com/brocantefairknechtenkamer" rel="noopener noreferrer" target="_blank">https://www.facebook.com/brocantefairknechtenkamer</a> of <a href="https://www.instagram.com/brocantefair_de_knechtenkamer" target="_blank">https://www.instagram.com/brocantefair_de_knechtenkamer</a>&nbsp;</p>
DESCRIPTION:<a href='/agenda/2024/6/9/brocante-erffair-bij-de-knechtenkamer-50578'>/agenda/2024/6/9/brocante-erffair-bij-de-knechtenkamer-50578</a> || <p>Op zondag 9 juni vindt alweer de 9e editie plaats van deze prachtige fair in landelijke sferen.</p><p>De Brocantefair bij De Knechtenkamer staat bekend als een zeer geliefde fair zowel bij brocanteurs als bezoekers die van heinde en verre naar het Land van Maas en Waal komen. De brocanteurs zijn met zorg geselecteerd, zij toveren hun stands om tot prachtige brocantewinkeltjes gevuld met stoer-Industrieelbrocante, serviesgoed, tuin- en landelijk brocante en meer. De 38 stands staan verspreid over het erf, rond de oude boerderij en in het schaduwrijke weiland. Liefhebbers kunnen hun hart ophalen aan het brede aanbod aan brocante en antiek en genieten van de sfeervolle locatie.</p><p>Natuurlijk ontbreekt de koffie met verse appeltaart niet, &nbsp;geserveerd op het binnen-erf dat omgetoverd is tot een sfeervolle theeschenkerij.</p><p>Iedereen is van harte welkom op zondag 9 juni tussen 10.00 en 16.00 uur.&nbsp;</p><p>B&amp;B De Knechtenkamer, Veldstraat 1, Puiflijk, 06 13890092</p><p>Entree 4 euro.&nbsp;</p><p>let op: er kan niet overal met pin betaald worden.</p><p>Meer informatie, zie <a href="https://www.facebook.com/brocantefairknechtenkamer" rel="noopener noreferrer" target="_blank">https://www.facebook.com/brocantefairknechtenkamer</a> of <a href="https://www.instagram.com/brocantefair_de_knechtenkamer" target="_blank">https://www.instagram.com/brocantefair_de_knechtenkamer</a>&nbsp;</p>
LAST-MODIFIED:20260423T151030Z
LOCATION: B&B De knechtenkamer | Veldstraat 1 Puiflijk
SEQUENCE:0
STATUS:CONFIRMED
SUMMARY:Brocante-erffair bij De Knechtenkamer
TRANSP:OPAQUE
END:VEVENT
END:VCALENDAR
