BEGIN:VCALENDAR
PRODID:-//PUBBLE//agenda//NL
VERSION:2.0
METHOD:PUBLISH
BEGIN:VEVENT
DTSTART:20190514T140532Z
DTEND:20190514T150532Z
DTSTAMP:20260420T140651Z
UID:76f9020f-64cc-4a9b-80d5-853ce23a0312
CREATED:20260420T140651Z
NAME:Maas en Waalse Oktoberfeesten  demaasenwaler.nl
X-WR-CALNAME:Maas en Waalse Oktoberfeesten 
X-ALT-DESC;FMTTYPE=text/html:<a href='/agenda/2019/9/20/maas-en-waalse-oktoberfeesten--30131'>/agenda/2019/9/20/maas-en-waalse-oktoberfeesten--30131</a> || <p>AFFERDEN - Bratwurst, lederhosen, dirndls en bierpullen&hellip; Het zijn slechts vier ingredi&euml;nten van de ongekend succesvolle Maas en Waalse Oktoberfeesten, die ook dit jaar in Afferden worden gehouden op 20 en 21 september.</p>

<p>Vrijdagavond staat Het Feest der Feesten op het programma, met muziek van onder meer dj&#39;s Bart &amp; Daan, PartyfrieX, Jelle B, ABBA-fever, zanger Kafke en Baby Blue.</p>

<p>Zatermiddag is de inmiddels bekende Schunkelnmittag. Jong en oud is deze middag vanaf 13.30 uur welkom in de sfeervolle feesttent om mee te deinen (&#39;Schunkeln&#39;) op traditionele Tirolermuziek. Met medewerking van Die Reifholzkapelle en enkele artiesten, belooft het een fantastische Tirolermiddag te worden.<br />
&#39;s Avonds staat het befaamde Maas en Waalse Oktoberfeest op het programma. Lange tafels, bierpullen en schlagermuziek zorgen voor een topavond in Tiroler stijl. Traditiegetrouw blijven de artiesten voor de zaterdagavond tot het laatste moment geheim. Toch zijn de kaarten elk jaar weer razendsnel uitverkocht.</p>

<p><em>Kaarten</em><br />
Combikaarten (alleen staanplaatsen) en Earlybird tickets zijn verkrijgbaar via www.maasenwaalseoktoberfeesten.nl. De kaartverkoop voor zitplaatsen op de zaterdagavond is op 25 mei om 19.00 uur bij Horeca De Meent in Afferden.</p>

DESCRIPTION:<a href='/agenda/2019/9/20/maas-en-waalse-oktoberfeesten--30131'>/agenda/2019/9/20/maas-en-waalse-oktoberfeesten--30131</a> || <p>AFFERDEN - Bratwurst, lederhosen, dirndls en bierpullen&hellip; Het zijn slechts vier ingredi&euml;nten van de ongekend succesvolle Maas en Waalse Oktoberfeesten, die ook dit jaar in Afferden worden gehouden op 20 en 21 september.</p>

<p>Vrijdagavond staat Het Feest der Feesten op het programma, met muziek van onder meer dj&#39;s Bart &amp; Daan, PartyfrieX, Jelle B, ABBA-fever, zanger Kafke en Baby Blue.</p>

<p>Zatermiddag is de inmiddels bekende Schunkelnmittag. Jong en oud is deze middag vanaf 13.30 uur welkom in de sfeervolle feesttent om mee te deinen (&#39;Schunkeln&#39;) op traditionele Tirolermuziek. Met medewerking van Die Reifholzkapelle en enkele artiesten, belooft het een fantastische Tirolermiddag te worden.<br />
&#39;s Avonds staat het befaamde Maas en Waalse Oktoberfeest op het programma. Lange tafels, bierpullen en schlagermuziek zorgen voor een topavond in Tiroler stijl. Traditiegetrouw blijven de artiesten voor de zaterdagavond tot het laatste moment geheim. Toch zijn de kaarten elk jaar weer razendsnel uitverkocht.</p>

<p><em>Kaarten</em><br />
Combikaarten (alleen staanplaatsen) en Earlybird tickets zijn verkrijgbaar via www.maasenwaalseoktoberfeesten.nl. De kaartverkoop voor zitplaatsen op de zaterdagavond is op 25 mei om 19.00 uur bij Horeca De Meent in Afferden.</p>

LAST-MODIFIED:20260420T140651Z
LOCATION: Maas en Waalse Oktoberfeesten |   Afferden
SEQUENCE:0
STATUS:CONFIRMED
SUMMARY:Maas en Waalse Oktoberfeesten 
TRANSP:OPAQUE
END:VEVENT
END:VCALENDAR
